BEGIN:VCALENDAR
VERSION:2.0
PRODID:-//50.87.253.236//NONSGML kigkonsult.se iCalcreator 2.26.9//
CALSCALE:GREGORIAN
METHOD:PUBLISH
X-FROM-URL:https://torontoslavic.org
X-WR-TIMEZONE:America/Toronto
BEGIN:VTIMEZONE
TZID:America/Toronto
X-LIC-LOCATION:America/Toronto
BEGIN:STANDARD
DTSTART:20251102T020000
TZOFFSETFROM:-0400
TZOFFSETTO:-0500
RDATE:20261101T020000
TZNAME:EST
END:STANDARD
BEGIN:DAYLIGHT
DTSTART:20260308T020000
TZOFFSETFROM:-0500
TZOFFSETTO:-0400
RDATE:20270314T020000
TZNAME:EDT
END:DAYLIGHT
END:VTIMEZONE
BEGIN:VEVENT
UID:ai1ec-1198@box2223.temp.domains
DTSTAMP:20260423T120103Z
CATEGORIES:
CONTACT:
DESCRIPTION:<p>Молитвенная встреча онлайн: для того чтобы присоединиться к 
 встрече перейдите пожалуйста по ссылке: <a href='https://zoom.us/j/9853447
 7913' target='_blank' rel='noopener noreferrer'>https://zoom.us/j/98534477
 913</a></p>\n<p>Ваши молитвенные нужды вы можете отправить заранее по ссыл
 ке: <a href='https://forms.gle/btxojA7PWMTkz9hy9'>https://forms.gle/btxojA
 7PWMTkz9hy9</a></p>
DTSTART;TZID=America/Toronto:20230425T200000
DTEND;TZID=America/Toronto:20230425T203000
RRULE:FREQ=WEEKLY;BYDAY=TU;WKST=SU
SEQUENCE:0
SUMMARY:Молитвенная встреча в ZOOM по вторникам 19:00
X-COST-TYPE:free
END:VEVENT
BEGIN:VEVENT
UID:ai1ec-1196@box2223.temp.domains
DTSTAMP:20260423T120103Z
CATEGORIES:
CONTACT:
DESCRIPTION:<p>Чтобы принять участие в совместной встрече субботнего дня\, 
 нажмите пожалуйста на ссылку <a href='https://zoom.us/j/630167984' target=
 '_blank' rel='noopener noreferrer'>https://zoom.us/j/630167984</a> в 20:00
  каждую пятницу.</p>
DTSTART;TZID=America/Toronto:20230428T200000
DTEND;TZID=America/Toronto:20230428T203000
RRULE:FREQ=WEEKLY;BYDAY=FR;WKST=SU
SEQUENCE:0
SUMMARY:Встреча субботнего дня в ZOOM
X-COST-TYPE:free
END:VEVENT
BEGIN:VEVENT
UID:ai1ec-1658@torontoslavic.org
DTSTAMP:20260423T120103Z
CATEGORIES:
CONTACT:
DESCRIPTION:<p>Приглашаем вас посетить наши богослужения каждую субботу в 1
 0 часов утра (по времени Торонто\, Канада) по адресу: 900 Sheppard Ave W N
 orth York\, ON M3H 2T5</p>\n<p>Также вы можете смотреть прямую трансляцию 
 богослужений ОНЛАЙН по ссылкам:</p>\n<p><a href='https://www.youtube.com/c
 hannel/UCiIUD1KWFsbWspyyJzF3e-A/' target='_blank' rel='noopener noreferrer
 '>https://www.youtube.com/channel/UCiIUD1KWFsbWspyyJzF3e-A/</a></p>\n<p>ил
 и</p>\n<p><a href='https://torontoslavic.org/' target='_blank' rel='noopen
 er noreferrer'>https://torontoslavic.org/</a></p>
DTSTART;TZID=America/Toronto:20230429T100000
DTEND;TZID=America/Toronto:20230429T130000
EXDATE;TZID=America/Toronto:20210821T100000
LOCATION:Toronto Slavic Seventh-Day Adventist Church @ 900 Sheppard Ave W N
 orth York\, ON M3H 2T5
RRULE:FREQ=WEEKLY;BYDAY=SA;WKST=SU
SEQUENCE:0
SUMMARY:СУББОТНЕЕ БОГОСЛУЖЕНИЕ
X-COST-TYPE:free
END:VEVENT
BEGIN:VEVENT
UID:ai1ec-3897@torontoslavic.org
DTSTAMP:20260423T120103Z
CATEGORIES:
CONTACT:
DESCRIPTION:<p>Богослужение будет проводиться только онлайн по ссылке: http
 s://www.youtube.com/@torontoslavic кликнув на «LIVE»</p>
DTSTART;TZID=America/Toronto:20231125T100000
DTEND;TZID=America/Toronto:20231125T130000
RDATE;TZID=America/Toronto:20231125T100000
RDATE;TZID=America/Toronto:20231202T100000
SEQUENCE:0
SUMMARY:ONLINE ТРАНСЛЯЦИЯ
X-COST-TYPE:free
END:VEVENT
END:VCALENDAR
